BEGIN:VCALENDAR
VERSION:2.0
PRODID:-//Evamaria Felder - ECPv6.15.20//NONSGML v1.0//EN
CALSCALE:GREGORIAN
METHOD:PUBLISH
X-ORIGINAL-URL:https://evamariafelder.ch
X-WR-CALDESC:Veranstaltungen im Evamaria Felder
REFRESH-INTERVAL;VALUE=DURATION:PT1H
X-Robots-Tag:noindex
X-PUBLISHED-TTL:PT1H
BEGIN:VTIMEZONE
TZID:Europe/Zurich
BEGIN:DAYLIGHT
TZOFFSETFROM:+0100
TZOFFSETTO:+0200
TZNAME:CEST
DTSTART:20250330T010000
END:DAYLIGHT
BEGIN:STANDARD
TZOFFSETFROM:+0200
TZOFFSETTO:+0100
TZNAME:CET
DTSTART:20251026T010000
END:STANDARD
BEGIN:DAYLIGHT
TZOFFSETFROM:+0100
TZOFFSETTO:+0200
TZNAME:CEST
DTSTART:20260329T010000
END:DAYLIGHT
BEGIN:STANDARD
TZOFFSETFROM:+0200
TZOFFSETTO:+0100
TZNAME:CET
DTSTART:20261025T010000
END:STANDARD
BEGIN:DAYLIGHT
TZOFFSETFROM:+0100
TZOFFSETTO:+0200
TZNAME:CEST
DTSTART:20270328T010000
END:DAYLIGHT
BEGIN:STANDARD
TZOFFSETFROM:+0200
TZOFFSETTO:+0100
TZNAME:CET
DTSTART:20271031T010000
END:STANDARD
END:VTIMEZONE
BEGIN:VEVENT
DTSTART;VALUE=DATE:20260315
DTEND;VALUE=DATE:20260316
DTSTAMP:20260421T141822
CREATED:20260314T112407Z
LAST-MODIFIED:20260314T123126Z
UID:10000084-1773532800-1773619199@evamariafelder.ch
SUMMARY:Abenteuer der Maus Lou - ZKO Haus\, Zürich
DESCRIPTION:Im Garten von Claude Monet\nKonzert und Spre­cherin\,\nmit Musiker:innen des ZKO \n11:00/14:00/16:00
URL:https://evamariafelder.ch/event/abenteuer-der-maus-lou-zko-haus-zuerich/
LOCATION:ZKO Haus\, Zürich
END:VEVENT
BEGIN:VEVENT
DTSTART;VALUE=DATE:20260328
DTEND;VALUE=DATE:20260329
DTSTAMP:20260421T141822
CREATED:20260314T112834Z
LAST-MODIFIED:20260316T061607Z
UID:10000086-1774656000-1774742399@evamariafelder.ch
SUMMARY:Auftrittstraining - Kantonsschule Wattwil
DESCRIPTION:Auftritts­trai­ning\nLernende des Gymna­siums \nWork­shop nur für Schü­le­rInnen des Gymna­siums Wattwil.
URL:https://evamariafelder.ch/event/auftrittstraining-kantonsschule-wattwil/
END:VEVENT
BEGIN:VEVENT
DTSTART;TZID=Europe/Zurich:20260329T110000
DTEND;TZID=Europe/Zurich:20260329T110000
DTSTAMP:20260421T141822
CREATED:20260314T112933Z
LAST-MODIFIED:20260316T061528Z
UID:10000087-1774782000-1774782000@evamariafelder.ch
SUMMARY:Camerata for family - Musikschule Konservatorium Zürich
DESCRIPTION:Came­rata & Kids ist das Fami­li­en­an­gebot der Came­rata Zürich für Erwach­sene und Kinder (Alters­emp­feh­lung: ab 8 Jahre). In diesem neu gestal­teten Format erleben Kinder und Erwach­sene gemeinsam im Konzert­saal\, wie ein einziges Werk Schritt für Schritt entschlüs­selt wird: mode­riert\, hörbar gemacht\, auseinander­genommen und mit kleinen musi­ka­li­schen Expe­ri­menten erklärt. Im zweiten Teil erklingt das Werk dann voll­ständig\, sodass sich die zuvor entdeckten Elemente zu einem neuen Hörerlebnis verbinden. \nWir entde­cken Mendels­sohns Konzert für Violine\, Klavier und Orchester (2. & 3. Satz)\nIn diesem Camerata-&-Kids-Konzert stehen zwei funkelnde Mittel­sätze von Mendels­sohn im Mittel­punkt – Musik voller Leich­tig­keit\, Gespräch und Bewe­gung. Gemeinsam hören wir\, wie Violine und Klavier sich mitein­ander verweben\, wie das Orchester antwortet und wie Mendels­sohn Stim­mungen aufbaut\, die zwischen lyri­scher Innig­keit und tänze­ri­schem Schwung wech­seln. Im ersten Teil führt Evamaria Felder durch ausge­wählte Stellen des Werks: Motive werden heraus­ge­löst\, Dialoge hörbar gemacht\, klang­liche Charak­tere entdeckt. Kinder wie Erwach­sene erleben\, wie Mendels­sohn musi­ka­li­sche Bilder formt und wie aus vielen kleinen Bausteinen ein grös­serer musi­ka­li­scher Bogen entsteht. Anschlies­send spielen wir beide Sätze komplett. Und plötz­lich wirkt die Musik vertraut: Themen tauchen wieder auf\, Struk­turen werden hörbar\, das Werk öffnet sich – ein gemein­sames Entde­cken für die ganze Familie. \nTickets
URL:https://evamariafelder.ch/event/camerata-for-family-musikschule-konservatorium-zuerich/
LOCATION:Musik­schule Konser­va­to­rium Zürich
END:VEVENT
END:VCALENDAR