BEGIN:VCALENDAR
VERSION:2.0
PRODID:-//Evamaria Felder - ECPv6.15.20//NONSGML v1.0//EN
CALSCALE:GREGORIAN
METHOD:PUBLISH
X-ORIGINAL-URL:https://evamariafelder.ch
X-WR-CALDESC:Veranstaltungen im Evamaria Felder
REFRESH-INTERVAL;VALUE=DURATION:PT1H
X-Robots-Tag:noindex
X-PUBLISHED-TTL:PT1H
BEGIN:VTIMEZONE
TZID:Europe/Zurich
BEGIN:DAYLIGHT
TZOFFSETFROM:+0100
TZOFFSETTO:+0200
TZNAME:CEST
DTSTART:20250330T010000
END:DAYLIGHT
BEGIN:STANDARD
TZOFFSETFROM:+0200
TZOFFSETTO:+0100
TZNAME:CET
DTSTART:20251026T010000
END:STANDARD
BEGIN:DAYLIGHT
TZOFFSETFROM:+0100
TZOFFSETTO:+0200
TZNAME:CEST
DTSTART:20260329T010000
END:DAYLIGHT
BEGIN:STANDARD
TZOFFSETFROM:+0200
TZOFFSETTO:+0100
TZNAME:CET
DTSTART:20261025T010000
END:STANDARD
BEGIN:DAYLIGHT
TZOFFSETFROM:+0100
TZOFFSETTO:+0200
TZNAME:CEST
DTSTART:20270328T010000
END:DAYLIGHT
BEGIN:STANDARD
TZOFFSETFROM:+0200
TZOFFSETTO:+0100
TZNAME:CET
DTSTART:20271031T010000
END:STANDARD
END:VTIMEZONE
BEGIN:VEVENT
DTSTART;TZID=Europe/Zurich:20260424T093000
DTEND;TZID=Europe/Zurich:20260424T163000
DTSTAMP:20260421T125855
CREATED:20260314T113409Z
LAST-MODIFIED:20260316T061142Z
UID:10000089-1777023000-1777048200@evamariafelder.ch
SUMMARY:Spotlight ON Workshop - Luzern
DESCRIPTION:In diesem praxis­ori­en­tierten Trai­ning lernst du\, wie du deinen Körper und deine Worte gezielt einsetzt\, um authen­tisch und über­zeu­gend aufzu­treten. Egal ob im Zwei­er­set­ting\, vor grossem Publikum oder in einer Video­bot­schaft – dieser Work­shop bietet dir die Werk­zeuge\, um in jedem Kontext Menschen für dich zu gewinnen und zu über­zeugen. Werde präsenter\, klarer und glaub­wür­diger. Lerne\, selbst in unvor­her­ge­se­henen und heraus­for­dernden Situa­tionen bewusst zu kommu­ni­zieren.  Finde dein selbst­be­wusstes\, souve­ränes\, wahres Ich. Melde dich jetzt an und setze das Spot­light auf dich! \nAndrea Pfäffli – Kommu­ni­ka­ti­ons­expertin\nEvamaria  Felder – Mental­trai­nerin
URL:https://evamariafelder.ch/event/spotlight-on-workshop-luzern/
LOCATION:Luzern
END:VEVENT
BEGIN:VEVENT
DTSTART;VALUE=DATE:20260425
DTEND;VALUE=DATE:20260427
DTSTAMP:20260421T125855
CREATED:20260314T113459Z
LAST-MODIFIED:20260316T061303Z
UID:10000090-1777075200-1777247999@evamariafelder.ch
SUMMARY:KiKu Festival Schüpfheim
DESCRIPTION:Ein Wochen­ende voller parti­zi­pa­tiver Ange­bote für Kinder: Kultur entde­cken\, erleben und selbst gestalten! Work­shops in den Berei­chen Musik\, Malerei\, Zirkus­akro­batik und Theater sowie Auffüh­rungen für die ganze Familie. Entdecke jetzt unser Programm 2026! \nKiKu Festival 2026 in Einsie­deln und Schüpf­heim\nProjekt­lei­tung \nKiKu – Home
URL:https://evamariafelder.ch/event/kiku-festival-schuepfheim/
END:VEVENT
BEGIN:VEVENT
DTSTART;TZID=Europe/Zurich:20260425T150000
DTEND;TZID=Europe/Zurich:20260425T160000
DTSTAMP:20260421T125855
CREATED:20260314T113655Z
LAST-MODIFIED:20260316T061721Z
UID:10000091-1777129200-1777132800@evamariafelder.ch
SUMMARY:Duo Merula - Kath. Kirche Schüpfheim
DESCRIPTION:Im Konzert­mär­chen «Chaos im König­reich Organum» tauchen Gross und Klein in die Klang­welten der Orgel ein. Die zwei Musik­päd­ago­ginnen Mirjam Wagner und Evamaria Felder haben gemeinsam eine Märchen­ge­schichte über die Orgel entwi­ckelt. In Zusam­men­ar­beit mit der Zeich­nerin Lena Kissóczy entstand eine zauber­hafte Land­karte des Märchen­reichs «Organum»\, welche das unbe­kannte Impe­rium auf einer visu­ellen Ebene darstellt. \nErzäh­lung: Evamaria Felder\nOrgel: Mirjam Wagner-Meister \nAlter: Empfohlen ab 4 Jahren \n\n\n\n\nSA 25.04.2026\, 15–16 Uhr\, Kirche Schüpf­heim
URL:https://evamariafelder.ch/event/duo-merula-kath-kirche-schuepfheim/
END:VEVENT
BEGIN:VEVENT
DTSTART;TZID=Europe/Zurich:20260426T170000
DTEND;TZID=Europe/Zurich:20260426T170000
DTSTAMP:20260421T125855
CREATED:20260314T115943Z
LAST-MODIFIED:20260316T060633Z
UID:10000093-1777222800-1777222800@evamariafelder.ch
SUMMARY:Durch Dick und Dünn - Gemeindesaal Schüpfheim
DESCRIPTION:DURCH DICK UND DÜNN nimmt das Publikum mit auf eine aben­teu­er­liche Reise mit dem Helden Bert\, seinem besten Freund Dummer­chen und aller­hand lustigem Personal. Denn Bert und Dummer­chen eröffnen gemeinsam einen Shop\, nur haben sie keinen Plan\, was man dazu braucht\, oder wie das funk­tio­niert. Ein Nach­mittag voller Über­ra­schungen\, farbigen Noten\, schnellen Stri­chen\, Aben­teuer und Humor\, wobei das Publikum fleissig mitbe­stimmen darf! Das Ensemble besteht aus Henry Boll­sch­weiler\, Evamaria Felder\, Fran­ziska Braun und Hannes Junker. \nHugo Boll­sch­weiler: live Zeich­nung\nEvamaria Felder: Flöte\nFran­ziska Braun: Klavier\nHannes Junker: Drums \nAlter: Empfohlen ab 6 Jahren \n\n\n\n\n 
URL:https://evamariafelder.ch/event/durch-dick-und-duenn-gemeindesaal-schuepfheim/
END:VEVENT
END:VCALENDAR