BEGIN:VCALENDAR
VERSION:2.0
PRODID:-//Evamaria Felder - ECPv6.15.20//NONSGML v1.0//EN
CALSCALE:GREGORIAN
METHOD:PUBLISH
X-ORIGINAL-URL:https://evamariafelder.ch
X-WR-CALDESC:Veranstaltungen im Evamaria Felder
REFRESH-INTERVAL;VALUE=DURATION:PT1H
X-Robots-Tag:noindex
X-PUBLISHED-TTL:PT1H
BEGIN:VTIMEZONE
TZID:Europe/Zurich
BEGIN:DAYLIGHT
TZOFFSETFROM:+0100
TZOFFSETTO:+0200
TZNAME:CEST
DTSTART:20250330T010000
END:DAYLIGHT
BEGIN:STANDARD
TZOFFSETFROM:+0200
TZOFFSETTO:+0100
TZNAME:CET
DTSTART:20251026T010000
END:STANDARD
BEGIN:DAYLIGHT
TZOFFSETFROM:+0100
TZOFFSETTO:+0200
TZNAME:CEST
DTSTART:20260329T010000
END:DAYLIGHT
BEGIN:STANDARD
TZOFFSETFROM:+0200
TZOFFSETTO:+0100
TZNAME:CET
DTSTART:20261025T010000
END:STANDARD
BEGIN:DAYLIGHT
TZOFFSETFROM:+0100
TZOFFSETTO:+0200
TZNAME:CEST
DTSTART:20270328T010000
END:DAYLIGHT
BEGIN:STANDARD
TZOFFSETFROM:+0200
TZOFFSETTO:+0100
TZNAME:CET
DTSTART:20271031T010000
END:STANDARD
END:VTIMEZONE
BEGIN:VEVENT
DTSTART;TZID=Europe/Zurich:20260509T190000
DTEND;TZID=Europe/Zurich:20260509T190000
DTSTAMP:20260421T153816
CREATED:20260314T120028Z
LAST-MODIFIED:20260316T060709Z
UID:10000092-1778353200-1778353200@evamariafelder.ch
SUMMARY:Nouveau Pastel - Bistro Rosa\, Basel
DESCRIPTION:MOG:Musik-Ohren-Gaumen Konzert mit Scho­ko­la­den­be­glei­tung \nIm Konzert­pro­gramm begegnen sich musi­ka­li­sche und kuli­na­ri­sche Minia­turen: Feine Werke aus der Spät­ro­mantik werden mit hand­ge­fer­tigten Pralinen kombi­niert\, die in Geschmack und Gestal­tung auf die Musik reagieren. Das Programm zeigt\, wie viel Ausdruck und Tiefe in kleinen Formen stecken kann – sowohl in Tönen als auch im Geschmack. \nFlöte – Evamaria Felder\nHarfe – Maura Knierim
URL:https://evamariafelder.ch/event/nouveau-pastel-bistro-rosa-basel/
END:VEVENT
BEGIN:VEVENT
DTSTART;TZID=Europe/Zurich:20260510T140000
DTEND;TZID=Europe/Zurich:20260510T140000
DTSTAMP:20260421T153816
CREATED:20260314T120111Z
LAST-MODIFIED:20260316T060654Z
UID:10000094-1778421600-1778421600@evamariafelder.ch
SUMMARY:Nouveau Pastel - Ateigi\, Sarnen
DESCRIPTION:MOG:Musik-Ohren-Gaumen Konzert mit Scho­ko­la­den­be­glei­tung \nIm Konzert­pro­gramm begegnen sich musi­ka­li­sche und kuli­na­ri­sche Minia­turen: Feine Werke aus der Spät­ro­mantik werden mit hand­ge­fer­tigten Pralinen kombi­niert\, die in Geschmack und Gestal­tung auf die Musik reagieren. Das Programm zeigt\, wie viel Ausdruck und Tiefe in kleinen Formen stecken kann – sowohl in Tönen als auch im Geschmack. \nFlöte – Evamaria Felder\nHarfe – Maura Knierim
URL:https://evamariafelder.ch/event/nouveau-pastel-ateigi-sarnen/
END:VEVENT
BEGIN:VEVENT
DTSTART;TZID=Europe/Zurich:20260517T193000
DTEND;TZID=Europe/Zurich:20260517T193000
DTSTAMP:20260421T153816
CREATED:20260314T143453Z
LAST-MODIFIED:20260316T060011Z
UID:10000095-1779046200-1779046200@evamariafelder.ch
SUMMARY:à la manière de Bach - Kirche Eriswil
DESCRIPTION:Im Programm à la manière de Bach begegnen sich zwei Welten: die strenge Formen­sprache des Barock und der freie Geist moderner Impro­vi­sa­tion. Fran­ziska Braun (Klavier und Orgel) und Evamaria Felder (Flöte) widmen sich bekannten Kompo­si­tionen Bachs – darunter die Toccata und Fuge\, die Sonate in e‑Moll und die Badi­nerie – und führen sie in neue klang­liche Räume. \nEintritt frei – Kollekte
URL:https://evamariafelder.ch/event/a-la-maniere-de-bach-kirche-eriswil/
END:VEVENT
END:VCALENDAR