BEGIN:VCALENDAR
VERSION:2.0
PRODID:-//Evamaria Felder - ECPv6.15.20//NONSGML v1.0//EN
CALSCALE:GREGORIAN
METHOD:PUBLISH
X-WR-CALNAME:Evamaria Felder
X-ORIGINAL-URL:https://evamariafelder.ch
X-WR-CALDESC:Veranstaltungen im Evamaria Felder
REFRESH-INTERVAL;VALUE=DURATION:PT1H
X-Robots-Tag:noindex
X-PUBLISHED-TTL:PT1H
BEGIN:VTIMEZONE
TZID:UTC
BEGIN:STANDARD
TZOFFSETFROM:+0000
TZOFFSETTO:+0000
TZNAME:UTC
DTSTART:20240101T000000
END:STANDARD
END:VTIMEZONE
BEGIN:VEVENT
DTSTART;TZID=UTC:20251019T160000
DTEND;TZID=UTC:20251019T170000
DTSTAMP:20260421T212532
CREATED:20250908T124208Z
LAST-MODIFIED:20250908T124208Z
UID:10000079-1760889600-1760893200@evamariafelder.ch
SUMMARY:Die Abenteuer der Maus Lou 4: Im Traumland mit Salvador Dali
DESCRIPTION:Maus Lou im Traum­land mit Salvador Dali \nMaus Lou steckt im Traum­land fest. Sie möchte so gerne wieder aufwa­chen und in ihre gemüt­liche Mäuse­höhle zurück­kehren\, aber sie findet den Ausgang nicht. Auf der Suche trifft sie auf über­grosse Elefanten und andere surreale Traum­wesen. Und dann begegnet ihr auch noch die ausge­lau­fene Zeit. Viel­leicht hat die ja etwas mit dem Fest­sitzen von Maus Lou zu tun? \nMit Bildern von Salvador Dalí und Musik aus dem Surrea­lismus \nEvamaria Felder (Konzept und Erzäh­lung)\nMusi­ke­rinnen und Musiker des Zürcher Kammer­or­ches­ters
URL:https://evamariafelder.ch/event/die-abenteuer-der-maus-lou-4/2025-10-19/3/
LOCATION:ZKO Haus\, Seefeldstrasse 305\, 8008 Zürich\, 8008
END:VEVENT
BEGIN:VEVENT
DTSTART;TZID=UTC:20251019T140000
DTEND;TZID=UTC:20251019T150000
DTSTAMP:20260421T212532
CREATED:20250908T124208Z
LAST-MODIFIED:20250908T124208Z
UID:10000078-1760882400-1760886000@evamariafelder.ch
SUMMARY:Die Abenteuer der Maus Lou 4: Im Traumland mit Salvador Dali
DESCRIPTION:Maus Lou im Traum­land mit Salvador Dali \nMaus Lou steckt im Traum­land fest. Sie möchte so gerne wieder aufwa­chen und in ihre gemüt­liche Mäuse­höhle zurück­kehren\, aber sie findet den Ausgang nicht. Auf der Suche trifft sie auf über­grosse Elefanten und andere surreale Traum­wesen. Und dann begegnet ihr auch noch die ausge­lau­fene Zeit. Viel­leicht hat die ja etwas mit dem Fest­sitzen von Maus Lou zu tun? \nMit Bildern von Salvador Dalí und Musik aus dem Surrea­lismus \nEvamaria Felder (Konzept und Erzäh­lung)\nMusi­ke­rinnen und Musiker des Zürcher Kammer­or­ches­ters
URL:https://evamariafelder.ch/event/die-abenteuer-der-maus-lou-4/2025-10-19/2/
LOCATION:ZKO Haus\, Seefeldstrasse 305\, 8008 Zürich\, 8008
END:VEVENT
BEGIN:VEVENT
DTSTART;TZID=UTC:20251019T110000
DTEND;TZID=UTC:20251019T120000
DTSTAMP:20260421T212532
CREATED:20250908T124208Z
LAST-MODIFIED:20250908T124208Z
UID:10000077-1760871600-1760875200@evamariafelder.ch
SUMMARY:Die Abenteuer der Maus Lou 4: Im Traumland mit Salvador Dali
DESCRIPTION:Maus Lou im Traum­land mit Salvador Dali \nMaus Lou steckt im Traum­land fest. Sie möchte so gerne wieder aufwa­chen und in ihre gemüt­liche Mäuse­höhle zurück­kehren\, aber sie findet den Ausgang nicht. Auf der Suche trifft sie auf über­grosse Elefanten und andere surreale Traum­wesen. Und dann begegnet ihr auch noch die ausge­lau­fene Zeit. Viel­leicht hat die ja etwas mit dem Fest­sitzen von Maus Lou zu tun? \nMit Bildern von Salvador Dalí und Musik aus dem Surrea­lismus \nEvamaria Felder (Konzept und Erzäh­lung)\nMusi­ke­rinnen und Musiker des Zürcher Kammer­or­ches­ters
URL:https://evamariafelder.ch/event/die-abenteuer-der-maus-lou-4/2025-10-19/1/
LOCATION:ZKO Haus\, Seefeldstrasse 305\, 8008 Zürich\, 8008
END:VEVENT
END:VCALENDAR