BEGIN:VCALENDAR
VERSION:2.0
PRODID:-//Evamaria Felder - ECPv6.15.20//NONSGML v1.0//EN
CALSCALE:GREGORIAN
METHOD:PUBLISH
X-WR-CALNAME:Evamaria Felder
X-ORIGINAL-URL:https://evamariafelder.ch
X-WR-CALDESC:Veranstaltungen im Evamaria Felder
REFRESH-INTERVAL;VALUE=DURATION:PT1H
X-Robots-Tag:noindex
X-PUBLISHED-TTL:PT1H
BEGIN:VTIMEZONE
TZID:UTC
BEGIN:STANDARD
TZOFFSETFROM:+0000
TZOFFSETTO:+0000
TZNAME:UTC
DTSTART:20240101T000000
END:STANDARD
END:VTIMEZONE
BEGIN:VEVENT
DTSTART;TZID=UTC:20250518T150000
DTEND;TZID=UTC:20250518T160000
DTSTAMP:20260421T210912
CREATED:20250417T144535Z
LAST-MODIFIED:20250417T144535Z
UID:10000066-1747580400-1747584000@evamariafelder.ch
SUMMARY:Durch Dick und Dünn: Ein musikalisches Abenteuer mit Live-Comiczeichnung
DESCRIPTION:Ein inter­ak­tiver Abend für die ganze Familie: DURCH DICK UND DÜNN! \nTaucht ein in das immer wieder neue Aben­teuer von Bert und Dummer­chen\, den beiden unzer­trenn­li­chen Freunden\, die direkt aus der Zeichen­hand von Henry entspringen – einem krea­tiven Jungen\, der sie bereits seit Jahren auf ihren turbu­lenten Reisen begleitet. Dabei sorgen drei Musi­ke­rInnen mit live gespielten Klängen für den passenden Sound­track und bringen die Geschichten zum Leben. \nDie Geschichte wird dabei gemeinsam mit unserem Publikum geschrieben. Wich­tige Entschei­dungen gilt’s zu treffen\, schnelle Lösungen zu finden und dabei ist der Humor und die Musik als treues Beglei­ter­paar mit dabei. \nEinen Abend voller Über­ra­schungen\, farbigen Noten\, schnellen Stri­chen\, Aben­teuer und Spass. \nZeich­nung: Henry Boll­sch­weiler\nMusik: Fran­ziska Braun\, Evamaria Felder\, Hannes Junker
URL:https://evamariafelder.ch/event/durch-dick-und-duenn-ein-musikalisches-abenteuer-mit-live-comiczeichnung/
LOCATION:Chär­nehus Einsiedlen\, Kornhausstrasse 12\, Einsiedeln\, 8840\, Schweiz
END:VEVENT
END:VCALENDAR