BEGIN:VCALENDAR
VERSION:2.0
PRODID:-//Evamaria Felder - ECPv6.15.20//NONSGML v1.0//EN
CALSCALE:GREGORIAN
METHOD:PUBLISH
X-WR-CALNAME:Evamaria Felder
X-ORIGINAL-URL:https://evamariafelder.ch
X-WR-CALDESC:Veranstaltungen im Evamaria Felder
REFRESH-INTERVAL;VALUE=DURATION:PT1H
X-Robots-Tag:noindex
X-PUBLISHED-TTL:PT1H
BEGIN:VTIMEZONE
TZID:UTC
BEGIN:STANDARD
TZOFFSETFROM:+0000
TZOFFSETTO:+0000
TZNAME:UTC
DTSTART:20240101T000000
END:STANDARD
END:VTIMEZONE
BEGIN:VEVENT
DTSTART;TZID=UTC:20251116T170000
DTEND;TZID=UTC:20251116T183000
DTSTAMP:20260421T212516
CREATED:20250908T124847Z
LAST-MODIFIED:20250908T125417Z
UID:10000082-1763312400-1763317800@evamariafelder.ch
SUMMARY:MOG 4: Musik–Ohren–Gaumen
DESCRIPTION:Korra­lenrot – Wein – Romantik\nDuo nouveau pastel mit ihrem Klang­fä­cher und Fokus auf fran­zö­si­sche Lite­ratur. Im Programm koral­lenrot erwei­tern sie mit Cellistin Anna Maria Aigner ihr Trio. Gemeinsam laden sie mit berüh­rendem Spiel ein\, die Viel­falt dieser ausser­ge­wöhn­li­chen Beset­zung zu erleben. Begleitet wird das Hörerlebnis mit einer Wein­de­gus­ta­tion aus der Region. \nEvamaria Felder – Flöte\nAnna Aigner – Cello\nMaura Knierim – Harfe \nWerke von Joseph Jongen\, einem belgi­schen Meister der Spät­ro­mantik\, treffen auf Jean Fran­caix und Jaques Ibert\, zwei fran­zö­si­sche Virtuosen der Klang­farben. \n 
URL:https://evamariafelder.ch/event/mog-4-musik-ohren-gaumen-2/
LOCATION:Imhof’s Wyst­übli\, Kienberghof 11\, Sissach\, 4450\, Switzerland
END:VEVENT
END:VCALENDAR