BEGIN:VCALENDAR
VERSION:2.0
PRODID:-//Evamaria Felder - ECPv6.15.20//NONSGML v1.0//EN
CALSCALE:GREGORIAN
METHOD:PUBLISH
X-WR-CALNAME:Evamaria Felder
X-ORIGINAL-URL:https://evamariafelder.ch
X-WR-CALDESC:Veranstaltungen im Evamaria Felder
REFRESH-INTERVAL;VALUE=DURATION:PT1H
X-Robots-Tag:noindex
X-PUBLISHED-TTL:PT1H
BEGIN:VTIMEZONE
TZID:UTC
BEGIN:STANDARD
TZOFFSETFROM:+0000
TZOFFSETTO:+0000
TZNAME:UTC
DTSTART:20240101T000000
END:STANDARD
END:VTIMEZONE
BEGIN:VEVENT
DTSTART;TZID=UTC:20250609T093000
DTEND;TZID=UTC:20250609T103000
DTSTAMP:20260421T212408
CREATED:20250417T145250Z
LAST-MODIFIED:20250417T151217Z
UID:10000067-1749461400-1749465000@evamariafelder.ch
SUMMARY:Duo merula: Chaos im Königreich Organum
DESCRIPTION:Chaos im König­reich Organum\nIm Orgel­reich ziehen Krank­heit und Chaos ins Land\, seit die neue Königin Winda regiert. Die letzte Hoff­nung liegt in der kleinsten Pfeife des König­reichs. Sie bittet Winda um Hilfe\, doch wird sich Königin Winda ändern\, damit wieder Harmonie einkehren kann? – Mit Musik aus den unter­schied­lichsten Epochen lernen die Kinder die Orgel kennen. \nEmpfohlen ab 4 Jahren\nDauer ca- 45′ \nEvamaria Felder – Erzäh­lung\nMirjam Wagner – Orgel \nMehr zum Duome­rula >
URL:https://evamariafelder.ch/event/duo-merula-chaos-im-koenigreich-organum-2/
LOCATION:Kirche St. Maria Neudorf\, Rorschacherstrasse 255\, St. Gallen\, 9016
END:VEVENT
END:VCALENDAR