BEGIN:VCALENDAR
VERSION:2.0
PRODID:-//Evamaria Felder - ECPv6.15.20//NONSGML v1.0//EN
CALSCALE:GREGORIAN
METHOD:PUBLISH
X-WR-CALNAME:Evamaria Felder
X-ORIGINAL-URL:https://evamariafelder.ch
X-WR-CALDESC:Veranstaltungen im Evamaria Felder
REFRESH-INTERVAL;VALUE=DURATION:PT1H
X-Robots-Tag:noindex
X-PUBLISHED-TTL:PT1H
BEGIN:VTIMEZONE
TZID:UTC
BEGIN:STANDARD
TZOFFSETFROM:+0000
TZOFFSETTO:+0000
TZNAME:UTC
DTSTART:20240101T000000
END:STANDARD
END:VTIMEZONE
BEGIN:VEVENT
DTSTART;TZID=UTC:20250627T170000
DTEND;TZID=UTC:20250627T180000
DTSTAMP:20260421T210946
CREATED:20250417T151708Z
LAST-MODIFIED:20250417T152005Z
UID:10000068-1751043600-1751047200@evamariafelder.ch
SUMMARY:nouveau pastel
DESCRIPTION:koral­lenrot\n\n\n\nDas Programm Koral­lenrot entführt in eine Klang­welt\, die ebenso farbenprächtig\, viel­schichtig und faszi­nie­rend ist wie die Korallen der Welt­meere. Werke von Joseph Jongen\, einem belgi­schen Meister der Spätromantik\, und Jean Fran­caix sowie Jaques Ibert\, zwei französische Virtuosen der Klang­farben. \nWie Korallen\, diese stabilen und doch hoch­sen­si­blen Wesen der Meere\, spie­geln die Kompo­si­tionen in ihrer Struktur und Dynamik die uner­mess­liche Tiefe und die Schönheit des Lebens im Meer wider. Zarte\, fragile Klang­farben wech­seln sich mit kraft­vollen\, stürmischen Wellen ab – ein stetiges Spiel zwischen Weite und Intimität\, zwischen Stärke und Zerbrech­lich­keit. \n\n\n\nEvamaria Felder – Flöte\nAnna Aigner – Cello\nMaura Knierim – Harfe
URL:https://evamariafelder.ch/event/nouveau-pastel/
LOCATION:Klinik in Berlin\, Deutschland
END:VEVENT
END:VCALENDAR