BEGIN:VCALENDAR
VERSION:2.0
PRODID:-//Evamaria Felder - ECPv6.15.20//NONSGML v1.0//EN
CALSCALE:GREGORIAN
METHOD:PUBLISH
X-WR-CALNAME:Evamaria Felder
X-ORIGINAL-URL:https://evamariafelder.ch
X-WR-CALDESC:Veranstaltungen im Evamaria Felder
REFRESH-INTERVAL;VALUE=DURATION:PT1H
X-Robots-Tag:noindex
X-PUBLISHED-TTL:PT1H
BEGIN:VTIMEZONE
TZID:UTC
BEGIN:STANDARD
TZOFFSETFROM:+0000
TZOFFSETTO:+0000
TZNAME:UTC
DTSTART:20240101T000000
END:STANDARD
END:VTIMEZONE
BEGIN:VEVENT
DTSTART;TZID=UTC:20251109T110000
DTEND;TZID=UTC:20251109T123000
DTSTAMP:20260421T211126
CREATED:20250908T124335Z
LAST-MODIFIED:20250908T124352Z
UID:10000080-1762686000-1762691400@evamariafelder.ch
SUMMARY:Camerata #Kids
DESCRIPTION:Das Vermitt­lungs­pro­gramm der Came­rata Zürich.\nWork­shop und Konzert­be­such für Kinder und Erwach­sene. \nEvamaria Felder: Konzept und Mode­ra­tion
URL:https://evamariafelder.ch/event/camerata-kids-5/
LOCATION:Konser­va­to­rium Zürich\, Florhofgasse 6\, Zürich\, 8001\, Schweiz
END:VEVENT
BEGIN:VEVENT
DTSTART;TZID=UTC:20250525T110000
DTEND;TZID=UTC:20250525T123000
DTSTAMP:20260421T211126
CREATED:20250417T144127Z
LAST-MODIFIED:20250417T144127Z
UID:10000065-1748170800-1748176200@evamariafelder.ch
SUMMARY:Camerata #Kids
DESCRIPTION:Das Vermitt­lungs­pro­gramm der Came­rata Zürich.\nWork­shop und Konzert­be­such für Kinder \nMit Artist in Resi­dence: Gilles Apap – Violine \nEvamaria Felder: Konzept und Mode­ra­tion
URL:https://evamariafelder.ch/event/camerata-kids-4/
LOCATION:Konser­va­to­rium Zürich\, Florhofgasse 6\, Zürich\, 8001\, Schweiz
END:VEVENT
BEGIN:VEVENT
DTSTART;TZID=UTC:20250119T110000
DTEND;TZID=UTC:20250119T123000
DTSTAMP:20260421T211126
CREATED:20240709T090500Z
LAST-MODIFIED:20240709T090500Z
UID:10000055-1737284400-1737289800@evamariafelder.ch
SUMMARY:Camerata #Kids
DESCRIPTION:Das Vermitt­lungs­pro­gramm der Came­rata Zürich.\nWork­shop und Konzert­be­such für Kinder \nMit Artist in Resi­dence: Gilles Apap – Violine \nEvamaria Felder: Konzept\, Mode­ra­tion und Leitung
URL:https://evamariafelder.ch/event/camerata-kids-3/
LOCATION:Konser­va­to­rium Zürich\, Florhofgasse 6\, Zürich\, 8001\, Schweiz
END:VEVENT
END:VCALENDAR