BEGIN:VCALENDAR
VERSION:2.0
PRODID:-//Evamaria Felder - ECPv6.15.20//NONSGML v1.0//EN
CALSCALE:GREGORIAN
METHOD:PUBLISH
X-ORIGINAL-URL:https://evamariafelder.ch
X-WR-CALDESC:Veranstaltungen im Evamaria Felder
REFRESH-INTERVAL;VALUE=DURATION:PT1H
X-Robots-Tag:noindex
X-PUBLISHED-TTL:PT1H
BEGIN:VTIMEZONE
TZID:UTC
BEGIN:STANDARD
TZOFFSETFROM:+0000
TZOFFSETTO:+0000
TZNAME:UTC
DTSTART:20230101T000000
END:STANDARD
END:VTIMEZONE
BEGIN:VEVENT
DTSTART;TZID=UTC:20240928T150000
DTEND;TZID=UTC:20240928T160000
DTSTAMP:20260421T223506
CREATED:20240709T084410Z
LAST-MODIFIED:20240709T084410Z
UID:10000045-1727535600-1727539200@evamariafelder.ch
SUMMARY:Figurentheater Petruschka: Der Flug zum Planet Sossindra
DESCRIPTION:Ein Welt­raum­mär­chen mit klas­si­scher Musik und Sand­ma­lerei — für Grosse und Kleine ab 5 Jahren \nFigu­ren­theater PETRUSCHKA — De Flug zum Planet Soss­indra \nMarta will einmal Welt­raum­for­scherin werden. Sie besucht regel­mässig den Herrn Professor\, der die Dach­woh­nung ihres Wohn­hauses zu einer Stern­warte umge­baut hat und ihr den Ster­nen­himmel erklärt.\nWährend er für eine inter­na­tio­nale Welt­raum­ta­gung abwe­send ist\, giesst Marta seine Pflanzen. Dabei beob­achtet sie in einer ster­nen­klaren Nacht durch das Fern­rohr den Nacht­himmel.\nGleich­zeitig sieht sie\, wie ein selt­sames Flug­ob­jekt in ihren Garten abstürzt. Dass dies der Anfang für ein Welt­raum­aben­teuer ist\, ahnt sie da noch nicht. \nEin span­nendes Theater mit vielen Über­ra­schungen erwartet das Publikum… gemeinsam fliegen wir auf den Planeten Soss­indra.
URL:https://evamariafelder.ch/event/figurentheater-petruschka-der-flug-zum-planet-sossindra/2024-09-28/
LOCATION:Pavil­lion Trib­schen­horn\, Richard-Wagner-Weg 17\, Luzern\, 6005
END:VEVENT
BEGIN:VEVENT
DTSTART;TZID=UTC:20240925T150000
DTEND;TZID=UTC:20240925T160000
DTSTAMP:20260421T223506
CREATED:20240709T084410Z
LAST-MODIFIED:20240709T084410Z
UID:10000044-1727276400-1727280000@evamariafelder.ch
SUMMARY:Figurentheater Petruschka: Der Flug zum Planet Sossindra
DESCRIPTION:Ein Welt­raum­mär­chen mit klas­si­scher Musik und Sand­ma­lerei — für Grosse und Kleine ab 5 Jahren \nFigu­ren­theater PETRUSCHKA — De Flug zum Planet Soss­indra \nMarta will einmal Welt­raum­for­scherin werden. Sie besucht regel­mässig den Herrn Professor\, der die Dach­woh­nung ihres Wohn­hauses zu einer Stern­warte umge­baut hat und ihr den Ster­nen­himmel erklärt.\nWährend er für eine inter­na­tio­nale Welt­raum­ta­gung abwe­send ist\, giesst Marta seine Pflanzen. Dabei beob­achtet sie in einer ster­nen­klaren Nacht durch das Fern­rohr den Nacht­himmel.\nGleich­zeitig sieht sie\, wie ein selt­sames Flug­ob­jekt in ihren Garten abstürzt. Dass dies der Anfang für ein Welt­raum­aben­teuer ist\, ahnt sie da noch nicht. \nEin span­nendes Theater mit vielen Über­ra­schungen erwartet das Publikum… gemeinsam fliegen wir auf den Planeten Soss­indra.
URL:https://evamariafelder.ch/event/figurentheater-petruschka-der-flug-zum-planet-sossindra/2024-09-25/
LOCATION:Pavil­lion Trib­schen­horn\, Richard-Wagner-Weg 17\, Luzern\, 6005
END:VEVENT
BEGIN:VEVENT
DTSTART;TZID=UTC:20240922T150000
DTEND;TZID=UTC:20240922T160000
DTSTAMP:20260421T223506
CREATED:20240709T084410Z
LAST-MODIFIED:20240709T084410Z
UID:10000043-1727017200-1727020800@evamariafelder.ch
SUMMARY:Figurentheater Petruschka: Der Flug zum Planet Sossindra
DESCRIPTION:Ein Welt­raum­mär­chen mit klas­si­scher Musik und Sand­ma­lerei — für Grosse und Kleine ab 5 Jahren \nFigu­ren­theater PETRUSCHKA — De Flug zum Planet Soss­indra \nMarta will einmal Welt­raum­for­scherin werden. Sie besucht regel­mässig den Herrn Professor\, der die Dach­woh­nung ihres Wohn­hauses zu einer Stern­warte umge­baut hat und ihr den Ster­nen­himmel erklärt.\nWährend er für eine inter­na­tio­nale Welt­raum­ta­gung abwe­send ist\, giesst Marta seine Pflanzen. Dabei beob­achtet sie in einer ster­nen­klaren Nacht durch das Fern­rohr den Nacht­himmel.\nGleich­zeitig sieht sie\, wie ein selt­sames Flug­ob­jekt in ihren Garten abstürzt. Dass dies der Anfang für ein Welt­raum­aben­teuer ist\, ahnt sie da noch nicht. \nEin span­nendes Theater mit vielen Über­ra­schungen erwartet das Publikum… gemeinsam fliegen wir auf den Planeten Soss­indra.
URL:https://evamariafelder.ch/event/figurentheater-petruschka-der-flug-zum-planet-sossindra/2024-09-22/
LOCATION:Pavil­lion Trib­schen­horn\, Richard-Wagner-Weg 17\, Luzern\, 6005
END:VEVENT
BEGIN:VEVENT
DTSTART;TZID=UTC:20240921T150000
DTEND;TZID=UTC:20240921T160000
DTSTAMP:20260421T223506
CREATED:20240709T084410Z
LAST-MODIFIED:20240709T084410Z
UID:10000042-1726930800-1726934400@evamariafelder.ch
SUMMARY:Figurentheater Petruschka: Der Flug zum Planet Sossindra
DESCRIPTION:Ein Welt­raum­mär­chen mit klas­si­scher Musik und Sand­ma­lerei — für Grosse und Kleine ab 5 Jahren \nFigu­ren­theater PETRUSCHKA — De Flug zum Planet Soss­indra \nMarta will einmal Welt­raum­for­scherin werden. Sie besucht regel­mässig den Herrn Professor\, der die Dach­woh­nung ihres Wohn­hauses zu einer Stern­warte umge­baut hat und ihr den Ster­nen­himmel erklärt.\nWährend er für eine inter­na­tio­nale Welt­raum­ta­gung abwe­send ist\, giesst Marta seine Pflanzen. Dabei beob­achtet sie in einer ster­nen­klaren Nacht durch das Fern­rohr den Nacht­himmel.\nGleich­zeitig sieht sie\, wie ein selt­sames Flug­ob­jekt in ihren Garten abstürzt. Dass dies der Anfang für ein Welt­raum­aben­teuer ist\, ahnt sie da noch nicht. \nEin span­nendes Theater mit vielen Über­ra­schungen erwartet das Publikum… gemeinsam fliegen wir auf den Planeten Soss­indra.
URL:https://evamariafelder.ch/event/figurentheater-petruschka-der-flug-zum-planet-sossindra/2024-09-21/
LOCATION:Pavil­lion Trib­schen­horn\, Richard-Wagner-Weg 17\, Luzern\, 6005
END:VEVENT
BEGIN:VEVENT
DTSTART;TZID=UTC:20240918T150000
DTEND;TZID=UTC:20240918T160000
DTSTAMP:20260421T223506
CREATED:20240709T084410Z
LAST-MODIFIED:20240709T084410Z
UID:10000041-1726671600-1726675200@evamariafelder.ch
SUMMARY:Figurentheater Petruschka: Der Flug zum Planet Sossindra
DESCRIPTION:Ein Welt­raum­mär­chen mit klas­si­scher Musik und Sand­ma­lerei — für Grosse und Kleine ab 5 Jahren \nFigu­ren­theater PETRUSCHKA — De Flug zum Planet Soss­indra \nMarta will einmal Welt­raum­for­scherin werden. Sie besucht regel­mässig den Herrn Professor\, der die Dach­woh­nung ihres Wohn­hauses zu einer Stern­warte umge­baut hat und ihr den Ster­nen­himmel erklärt.\nWährend er für eine inter­na­tio­nale Welt­raum­ta­gung abwe­send ist\, giesst Marta seine Pflanzen. Dabei beob­achtet sie in einer ster­nen­klaren Nacht durch das Fern­rohr den Nacht­himmel.\nGleich­zeitig sieht sie\, wie ein selt­sames Flug­ob­jekt in ihren Garten abstürzt. Dass dies der Anfang für ein Welt­raum­aben­teuer ist\, ahnt sie da noch nicht. \nEin span­nendes Theater mit vielen Über­ra­schungen erwartet das Publikum… gemeinsam fliegen wir auf den Planeten Soss­indra.
URL:https://evamariafelder.ch/event/figurentheater-petruschka-der-flug-zum-planet-sossindra/2024-09-18/
LOCATION:Pavil­lion Trib­schen­horn\, Richard-Wagner-Weg 17\, Luzern\, 6005
END:VEVENT
BEGIN:VEVENT
DTSTART;TZID=UTC:20240915T150000
DTEND;TZID=UTC:20240915T160000
DTSTAMP:20260421T223506
CREATED:20240709T084410Z
LAST-MODIFIED:20240709T084410Z
UID:10000040-1726412400-1726416000@evamariafelder.ch
SUMMARY:Figurentheater Petruschka: Der Flug zum Planet Sossindra
DESCRIPTION:Ein Welt­raum­mär­chen mit klas­si­scher Musik und Sand­ma­lerei — für Grosse und Kleine ab 5 Jahren \nFigu­ren­theater PETRUSCHKA — De Flug zum Planet Soss­indra \nMarta will einmal Welt­raum­for­scherin werden. Sie besucht regel­mässig den Herrn Professor\, der die Dach­woh­nung ihres Wohn­hauses zu einer Stern­warte umge­baut hat und ihr den Ster­nen­himmel erklärt.\nWährend er für eine inter­na­tio­nale Welt­raum­ta­gung abwe­send ist\, giesst Marta seine Pflanzen. Dabei beob­achtet sie in einer ster­nen­klaren Nacht durch das Fern­rohr den Nacht­himmel.\nGleich­zeitig sieht sie\, wie ein selt­sames Flug­ob­jekt in ihren Garten abstürzt. Dass dies der Anfang für ein Welt­raum­aben­teuer ist\, ahnt sie da noch nicht. \nEin span­nendes Theater mit vielen Über­ra­schungen erwartet das Publikum… gemeinsam fliegen wir auf den Planeten Soss­indra.
URL:https://evamariafelder.ch/event/figurentheater-petruschka-der-flug-zum-planet-sossindra/2024-09-15/
LOCATION:Pavil­lion Trib­schen­horn\, Richard-Wagner-Weg 17\, Luzern\, 6005
END:VEVENT
BEGIN:VEVENT
DTSTART;TZID=UTC:20240914T150000
DTEND;TZID=UTC:20240914T160000
DTSTAMP:20260421T223506
CREATED:20240709T084410Z
LAST-MODIFIED:20240709T084410Z
UID:10000039-1726326000-1726329600@evamariafelder.ch
SUMMARY:Figurentheater Petruschka: Der Flug zum Planet Sossindra
DESCRIPTION:Ein Welt­raum­mär­chen mit klas­si­scher Musik und Sand­ma­lerei — für Grosse und Kleine ab 5 Jahren \nFigu­ren­theater PETRUSCHKA — De Flug zum Planet Soss­indra \nMarta will einmal Welt­raum­for­scherin werden. Sie besucht regel­mässig den Herrn Professor\, der die Dach­woh­nung ihres Wohn­hauses zu einer Stern­warte umge­baut hat und ihr den Ster­nen­himmel erklärt.\nWährend er für eine inter­na­tio­nale Welt­raum­ta­gung abwe­send ist\, giesst Marta seine Pflanzen. Dabei beob­achtet sie in einer ster­nen­klaren Nacht durch das Fern­rohr den Nacht­himmel.\nGleich­zeitig sieht sie\, wie ein selt­sames Flug­ob­jekt in ihren Garten abstürzt. Dass dies der Anfang für ein Welt­raum­aben­teuer ist\, ahnt sie da noch nicht. \nEin span­nendes Theater mit vielen Über­ra­schungen erwartet das Publikum… gemeinsam fliegen wir auf den Planeten Soss­indra.
URL:https://evamariafelder.ch/event/figurentheater-petruschka-der-flug-zum-planet-sossindra/2024-09-14/
LOCATION:Pavil­lion Trib­schen­horn\, Richard-Wagner-Weg 17\, Luzern\, 6005
END:VEVENT
BEGIN:VEVENT
DTSTART;TZID=UTC:20240911T150000
DTEND;TZID=UTC:20240911T160000
DTSTAMP:20260421T223506
CREATED:20240709T084410Z
LAST-MODIFIED:20240709T084410Z
UID:10000038-1726066800-1726070400@evamariafelder.ch
SUMMARY:Figurentheater Petruschka: Der Flug zum Planet Sossindra
DESCRIPTION:Ein Welt­raum­mär­chen mit klas­si­scher Musik und Sand­ma­lerei — für Grosse und Kleine ab 5 Jahren \nFigu­ren­theater PETRUSCHKA — De Flug zum Planet Soss­indra \nMarta will einmal Welt­raum­for­scherin werden. Sie besucht regel­mässig den Herrn Professor\, der die Dach­woh­nung ihres Wohn­hauses zu einer Stern­warte umge­baut hat und ihr den Ster­nen­himmel erklärt.\nWährend er für eine inter­na­tio­nale Welt­raum­ta­gung abwe­send ist\, giesst Marta seine Pflanzen. Dabei beob­achtet sie in einer ster­nen­klaren Nacht durch das Fern­rohr den Nacht­himmel.\nGleich­zeitig sieht sie\, wie ein selt­sames Flug­ob­jekt in ihren Garten abstürzt. Dass dies der Anfang für ein Welt­raum­aben­teuer ist\, ahnt sie da noch nicht. \nEin span­nendes Theater mit vielen Über­ra­schungen erwartet das Publikum… gemeinsam fliegen wir auf den Planeten Soss­indra.
URL:https://evamariafelder.ch/event/figurentheater-petruschka-der-flug-zum-planet-sossindra/2024-09-11/
LOCATION:Pavil­lion Trib­schen­horn\, Richard-Wagner-Weg 17\, Luzern\, 6005
END:VEVENT
BEGIN:VEVENT
DTSTART;TZID=UTC:20240908T150000
DTEND;TZID=UTC:20240908T160000
DTSTAMP:20260421T223506
CREATED:20240709T084410Z
LAST-MODIFIED:20240709T084410Z
UID:10000037-1725807600-1725811200@evamariafelder.ch
SUMMARY:Figurentheater Petruschka: Der Flug zum Planet Sossindra
DESCRIPTION:Ein Welt­raum­mär­chen mit klas­si­scher Musik und Sand­ma­lerei — für Grosse und Kleine ab 5 Jahren \nFigu­ren­theater PETRUSCHKA — De Flug zum Planet Soss­indra \nMarta will einmal Welt­raum­for­scherin werden. Sie besucht regel­mässig den Herrn Professor\, der die Dach­woh­nung ihres Wohn­hauses zu einer Stern­warte umge­baut hat und ihr den Ster­nen­himmel erklärt.\nWährend er für eine inter­na­tio­nale Welt­raum­ta­gung abwe­send ist\, giesst Marta seine Pflanzen. Dabei beob­achtet sie in einer ster­nen­klaren Nacht durch das Fern­rohr den Nacht­himmel.\nGleich­zeitig sieht sie\, wie ein selt­sames Flug­ob­jekt in ihren Garten abstürzt. Dass dies der Anfang für ein Welt­raum­aben­teuer ist\, ahnt sie da noch nicht. \nEin span­nendes Theater mit vielen Über­ra­schungen erwartet das Publikum… gemeinsam fliegen wir auf den Planeten Soss­indra.
URL:https://evamariafelder.ch/event/figurentheater-petruschka-der-flug-zum-planet-sossindra/2024-09-08/
LOCATION:Pavil­lion Trib­schen­horn\, Richard-Wagner-Weg 17\, Luzern\, 6005
END:VEVENT
BEGIN:VEVENT
DTSTART;TZID=UTC:20240907T150000
DTEND;TZID=UTC:20240907T160000
DTSTAMP:20260421T223506
CREATED:20240709T084410Z
LAST-MODIFIED:20240709T084410Z
UID:10000036-1725721200-1725724800@evamariafelder.ch
SUMMARY:Figurentheater Petruschka: Der Flug zum Planet Sossindra
DESCRIPTION:Ein Welt­raum­mär­chen mit klas­si­scher Musik und Sand­ma­lerei — für Grosse und Kleine ab 5 Jahren \nFigu­ren­theater PETRUSCHKA — De Flug zum Planet Soss­indra \nMarta will einmal Welt­raum­for­scherin werden. Sie besucht regel­mässig den Herrn Professor\, der die Dach­woh­nung ihres Wohn­hauses zu einer Stern­warte umge­baut hat und ihr den Ster­nen­himmel erklärt.\nWährend er für eine inter­na­tio­nale Welt­raum­ta­gung abwe­send ist\, giesst Marta seine Pflanzen. Dabei beob­achtet sie in einer ster­nen­klaren Nacht durch das Fern­rohr den Nacht­himmel.\nGleich­zeitig sieht sie\, wie ein selt­sames Flug­ob­jekt in ihren Garten abstürzt. Dass dies der Anfang für ein Welt­raum­aben­teuer ist\, ahnt sie da noch nicht. \nEin span­nendes Theater mit vielen Über­ra­schungen erwartet das Publikum… gemeinsam fliegen wir auf den Planeten Soss­indra.
URL:https://evamariafelder.ch/event/figurentheater-petruschka-der-flug-zum-planet-sossindra/2024-09-07/
LOCATION:Pavil­lion Trib­schen­horn\, Richard-Wagner-Weg 17\, Luzern\, 6005
END:VEVENT
END:VCALENDAR