BEGIN:VCALENDAR
VERSION:2.0
PRODID:-//Evamaria Felder - ECPv6.15.20//NONSGML v1.0//EN
CALSCALE:GREGORIAN
METHOD:PUBLISH
X-ORIGINAL-URL:https://evamariafelder.ch
X-WR-CALDESC:Veranstaltungen im Evamaria Felder
REFRESH-INTERVAL;VALUE=DURATION:PT1H
X-Robots-Tag:noindex
X-PUBLISHED-TTL:PT1H
BEGIN:VTIMEZONE
TZID:UTC
BEGIN:STANDARD
TZOFFSETFROM:+0000
TZOFFSETTO:+0000
TZNAME:UTC
DTSTART:20240101T000000
END:STANDARD
END:VTIMEZONE
BEGIN:VEVENT
DTSTART;TZID=UTC:20251115T193000
DTEND;TZID=UTC:20251115T213000
DTSTAMP:20260421T211905
CREATED:20250908T125353Z
LAST-MODIFIED:20250908T125353Z
UID:10000083-1763235000-1763242200@evamariafelder.ch
SUMMARY:Genusskonzert
DESCRIPTION:Korra­lenrot \nNouveau Pastel mit Anna Maria Aigner: Die beiden Musi­ke­rinnen Evamaria Felder und Maura Knierim versetzen das Publikum als Duo nouveau pastel immer wieder in Staunen mit ihrem indi­vi­du­ellen Klang­fä­cher und ihrer Farb­ge­bung. Im Programm koral­lenrot setzen sie die Zusam­men­ar­beit mit der Cellistin Anna Maria Aigner fort\, die eben­falls in Wien ihren Ursprung fand. Mit ihrer berüh­renden und mitreis­senden Art zu musi­zieren zeigt das Trio die Viel­fäl­tig­keit dieser ausser­or­dent­li­chen Beset­zung und lädt das Publikum ein\, in neue Klang­welten einzu­tau­chen. Um den Genuss der Musik zu vertiefen wird es eine kuli­na­ri­sche Beglei­tung geben. \nEvamaria Felder – Flöte\nAnna Aigner – Cello\nMaura Knierim – Harfe \nWerke von Joseph Jongen\, einem belgi­schen Meister der Spät­ro­mantik\, treffen auf Jean Fran­caix und Jaques Ibert\, zwei fran­zö­si­sche Virtuosen der Klang­farben. \n 
URL:https://evamariafelder.ch/event/genusskonzert/
LOCATION:Wein­bau­mu­seum Teger­felden\, Oberfeld 9\, Tegerfelden\, 5306\, Switzerland
END:VEVENT
END:VCALENDAR