BEGIN:VCALENDAR
VERSION:2.0
PRODID:-//Evamaria Felder - ECPv6.15.20//NONSGML v1.0//EN
CALSCALE:GREGORIAN
METHOD:PUBLISH
X-ORIGINAL-URL:https://evamariafelder.ch
X-WR-CALDESC:Veranstaltungen im Evamaria Felder
REFRESH-INTERVAL;VALUE=DURATION:PT1H
X-Robots-Tag:noindex
X-PUBLISHED-TTL:PT1H
BEGIN:VTIMEZONE
TZID:UTC
BEGIN:STANDARD
TZOFFSETFROM:+0000
TZOFFSETTO:+0000
TZNAME:UTC
DTSTART:20230101T000000
END:STANDARD
END:VTIMEZONE
BEGIN:VEVENT
DTSTART;TZID=UTC:20251019T160000
DTEND;TZID=UTC:20251019T170000
DTSTAMP:20260421T212228
CREATED:20250908T124208Z
LAST-MODIFIED:20250908T124208Z
UID:10000079-1760889600-1760893200@evamariafelder.ch
SUMMARY:Die Abenteuer der Maus Lou 4: Im Traumland mit Salvador Dali
DESCRIPTION:Maus Lou im Traum­land mit Salvador Dali \nMaus Lou steckt im Traum­land fest. Sie möchte so gerne wieder aufwa­chen und in ihre gemüt­liche Mäuse­höhle zurück­kehren\, aber sie findet den Ausgang nicht. Auf der Suche trifft sie auf über­grosse Elefanten und andere surreale Traum­wesen. Und dann begegnet ihr auch noch die ausge­lau­fene Zeit. Viel­leicht hat die ja etwas mit dem Fest­sitzen von Maus Lou zu tun? \nMit Bildern von Salvador Dalí und Musik aus dem Surrea­lismus \nEvamaria Felder (Konzept und Erzäh­lung)\nMusi­ke­rinnen und Musiker des Zürcher Kammer­or­ches­ters
URL:https://evamariafelder.ch/event/die-abenteuer-der-maus-lou-4/2025-10-19/3/
LOCATION:ZKO Haus\, Seefeldstrasse 305\, 8008 Zürich\, 8008
END:VEVENT
BEGIN:VEVENT
DTSTART;TZID=UTC:20251019T140000
DTEND;TZID=UTC:20251019T150000
DTSTAMP:20260421T212228
CREATED:20250908T124208Z
LAST-MODIFIED:20250908T124208Z
UID:10000078-1760882400-1760886000@evamariafelder.ch
SUMMARY:Die Abenteuer der Maus Lou 4: Im Traumland mit Salvador Dali
DESCRIPTION:Maus Lou im Traum­land mit Salvador Dali \nMaus Lou steckt im Traum­land fest. Sie möchte so gerne wieder aufwa­chen und in ihre gemüt­liche Mäuse­höhle zurück­kehren\, aber sie findet den Ausgang nicht. Auf der Suche trifft sie auf über­grosse Elefanten und andere surreale Traum­wesen. Und dann begegnet ihr auch noch die ausge­lau­fene Zeit. Viel­leicht hat die ja etwas mit dem Fest­sitzen von Maus Lou zu tun? \nMit Bildern von Salvador Dalí und Musik aus dem Surrea­lismus \nEvamaria Felder (Konzept und Erzäh­lung)\nMusi­ke­rinnen und Musiker des Zürcher Kammer­or­ches­ters
URL:https://evamariafelder.ch/event/die-abenteuer-der-maus-lou-4/2025-10-19/2/
LOCATION:ZKO Haus\, Seefeldstrasse 305\, 8008 Zürich\, 8008
END:VEVENT
BEGIN:VEVENT
DTSTART;TZID=UTC:20251019T110000
DTEND;TZID=UTC:20251019T120000
DTSTAMP:20260421T212228
CREATED:20250908T124208Z
LAST-MODIFIED:20250908T124208Z
UID:10000077-1760871600-1760875200@evamariafelder.ch
SUMMARY:Die Abenteuer der Maus Lou 4: Im Traumland mit Salvador Dali
DESCRIPTION:Maus Lou im Traum­land mit Salvador Dali \nMaus Lou steckt im Traum­land fest. Sie möchte so gerne wieder aufwa­chen und in ihre gemüt­liche Mäuse­höhle zurück­kehren\, aber sie findet den Ausgang nicht. Auf der Suche trifft sie auf über­grosse Elefanten und andere surreale Traum­wesen. Und dann begegnet ihr auch noch die ausge­lau­fene Zeit. Viel­leicht hat die ja etwas mit dem Fest­sitzen von Maus Lou zu tun? \nMit Bildern von Salvador Dalí und Musik aus dem Surrea­lismus \nEvamaria Felder (Konzept und Erzäh­lung)\nMusi­ke­rinnen und Musiker des Zürcher Kammer­or­ches­ters
URL:https://evamariafelder.ch/event/die-abenteuer-der-maus-lou-4/2025-10-19/1/
LOCATION:ZKO Haus\, Seefeldstrasse 305\, 8008 Zürich\, 8008
END:VEVENT
BEGIN:VEVENT
DTSTART;TZID=UTC:20250216T160000
DTEND;TZID=UTC:20250216T170000
DTSTAMP:20260421T212228
CREATED:20240709T090811Z
LAST-MODIFIED:20240709T090829Z
UID:10000061-1739721600-1739725200@evamariafelder.ch
SUMMARY:ZKO\, Zürcher Kammerorchester: Die Abenteuer der Maus Lou 3
DESCRIPTION:Die Aben­teuer der Maus Lou:\nMaus Lou im Weltall mit Wassily Kandinsky \nKINDERKONZERT\n\n\n\nMaus Lou fragt sich seit einiger Zeit wie die leuch­tenden Sterne am Abend­himmel wohl von nahe aussehen. Gibt es noch andere Planeten als unsere Erde\, und falls ja\, wer wohnt dort und was machen sie den ganzen Tag? Als Maus Lou eine Rake­ten­sta­tion von Wassily Kandinsky findet nimmt sie all ihren Mut zusammen und fliegt ins Weltall. Sie macht Bekannt­schaft mit neuen Wesen und anderen Lebens­formen und ist ganz begeis­tert davon\, wie bunt und viel­fältig das Weltall sein kann. Doch meinen es nicht alle Wesen gut mit der Maus Lou und der Treib­stoff der Rakete hält auch nicht so lange wie geplant. Zum Glück sind die Kinder mit dabei und helfen Maus Lou mit ihren krea­tiven Ideen wieder heil nach Hause zu kommen. \n Bilder von Wassily Kandinsky\nMusik aus der Bauhaus Zeit
URL:https://evamariafelder.ch/event/zko-zuercher-kammerorchester-die-abenteuer-der-maus-lou-3/2025-02-16/3/
LOCATION:ZKO Haus\, Seefeldstrasse 305\, 8008 Zürich\, 8008
END:VEVENT
BEGIN:VEVENT
DTSTART;TZID=UTC:20250216T140000
DTEND;TZID=UTC:20250216T150000
DTSTAMP:20260421T212228
CREATED:20240709T090811Z
LAST-MODIFIED:20240709T090829Z
UID:10000060-1739714400-1739718000@evamariafelder.ch
SUMMARY:ZKO\, Zürcher Kammerorchester: Die Abenteuer der Maus Lou 3
DESCRIPTION:Die Aben­teuer der Maus Lou:\nMaus Lou im Weltall mit Wassily Kandinsky \nKINDERKONZERT\n\n\n\nMaus Lou fragt sich seit einiger Zeit wie die leuch­tenden Sterne am Abend­himmel wohl von nahe aussehen. Gibt es noch andere Planeten als unsere Erde\, und falls ja\, wer wohnt dort und was machen sie den ganzen Tag? Als Maus Lou eine Rake­ten­sta­tion von Wassily Kandinsky findet nimmt sie all ihren Mut zusammen und fliegt ins Weltall. Sie macht Bekannt­schaft mit neuen Wesen und anderen Lebens­formen und ist ganz begeis­tert davon\, wie bunt und viel­fältig das Weltall sein kann. Doch meinen es nicht alle Wesen gut mit der Maus Lou und der Treib­stoff der Rakete hält auch nicht so lange wie geplant. Zum Glück sind die Kinder mit dabei und helfen Maus Lou mit ihren krea­tiven Ideen wieder heil nach Hause zu kommen. \n Bilder von Wassily Kandinsky\nMusik aus der Bauhaus Zeit
URL:https://evamariafelder.ch/event/zko-zuercher-kammerorchester-die-abenteuer-der-maus-lou-3/2025-02-16/2/
LOCATION:ZKO Haus\, Seefeldstrasse 305\, 8008 Zürich\, 8008
END:VEVENT
BEGIN:VEVENT
DTSTART;TZID=UTC:20250216T110000
DTEND;TZID=UTC:20250216T120000
DTSTAMP:20260421T212228
CREATED:20240709T090811Z
LAST-MODIFIED:20240709T090829Z
UID:10000059-1739703600-1739707200@evamariafelder.ch
SUMMARY:ZKO\, Zürcher Kammerorchester: Die Abenteuer der Maus Lou 3
DESCRIPTION:Die Aben­teuer der Maus Lou:\nMaus Lou im Weltall mit Wassily Kandinsky \nKINDERKONZERT\n\n\n\nMaus Lou fragt sich seit einiger Zeit wie die leuch­tenden Sterne am Abend­himmel wohl von nahe aussehen. Gibt es noch andere Planeten als unsere Erde\, und falls ja\, wer wohnt dort und was machen sie den ganzen Tag? Als Maus Lou eine Rake­ten­sta­tion von Wassily Kandinsky findet nimmt sie all ihren Mut zusammen und fliegt ins Weltall. Sie macht Bekannt­schaft mit neuen Wesen und anderen Lebens­formen und ist ganz begeis­tert davon\, wie bunt und viel­fältig das Weltall sein kann. Doch meinen es nicht alle Wesen gut mit der Maus Lou und der Treib­stoff der Rakete hält auch nicht so lange wie geplant. Zum Glück sind die Kinder mit dabei und helfen Maus Lou mit ihren krea­tiven Ideen wieder heil nach Hause zu kommen. \n Bilder von Wassily Kandinsky\nMusik aus der Bauhaus Zeit
URL:https://evamariafelder.ch/event/zko-zuercher-kammerorchester-die-abenteuer-der-maus-lou-3/2025-02-16/1/
LOCATION:ZKO Haus\, Seefeldstrasse 305\, 8008 Zürich\, 8008
END:VEVENT
BEGIN:VEVENT
DTSTART;TZID=UTC:20241124T160000
DTEND;TZID=UTC:20241124T170000
DTSTAMP:20260421T212228
CREATED:20240709T085822Z
LAST-MODIFIED:20240709T090240Z
UID:10000054-1732464000-1732467600@evamariafelder.ch
SUMMARY:ZKO\, Zürcher Kammerorchester: Die Abenteuer der Maus Lou 2
DESCRIPTION:Die Aben­teuer der Maus Lou:\nAuf Wander­schaft mit Caspar David Fried­rich \nKINDERKONZERT\nEin inter­ak­tives Konzert­format\, in welchem die Kinder auf viel­fäl­tige Weise das Geschehen selbst mitge­stalten können. Mithilfe der ausge­stellten Kunst­werke eines Künst­lers\, sowie der dazu passenden Musik\, reist die Maus Lou stets in eine andere Epoche der Kunst­ge­schichte. \n\n\n\nMaus Lou verbringt ihre Ferien beim Maler Caspar David Fried­rich in Dresden. Dieser möchte unbe­dingt ans Meer reisen\, um dort seine Familie zu besu­chen und wandern zu gehen. Mit prall gefülltem Ruck­sack und viel Enthu­si­asmus brechen sie gemeinsam zu ihrer grossen Reise auf. \nBilder von Caspar David Fried­rich\nMusik aus der Früh­ro­mantik
URL:https://evamariafelder.ch/event/zko-zuercher-kammerorchester-die-abenteuer-der-maus-lou-2/2024-11-24/3/
LOCATION:ZKO Haus\, Seefeldstrasse 305\, 8008 Zürich\, 8008
END:VEVENT
BEGIN:VEVENT
DTSTART;TZID=UTC:20241124T140000
DTEND;TZID=UTC:20241124T150000
DTSTAMP:20260421T212228
CREATED:20240709T085822Z
LAST-MODIFIED:20240709T090240Z
UID:10000053-1732456800-1732460400@evamariafelder.ch
SUMMARY:ZKO\, Zürcher Kammerorchester: Die Abenteuer der Maus Lou 2
DESCRIPTION:Die Aben­teuer der Maus Lou:\nAuf Wander­schaft mit Caspar David Fried­rich \nKINDERKONZERT\nEin inter­ak­tives Konzert­format\, in welchem die Kinder auf viel­fäl­tige Weise das Geschehen selbst mitge­stalten können. Mithilfe der ausge­stellten Kunst­werke eines Künst­lers\, sowie der dazu passenden Musik\, reist die Maus Lou stets in eine andere Epoche der Kunst­ge­schichte. \n\n\n\nMaus Lou verbringt ihre Ferien beim Maler Caspar David Fried­rich in Dresden. Dieser möchte unbe­dingt ans Meer reisen\, um dort seine Familie zu besu­chen und wandern zu gehen. Mit prall gefülltem Ruck­sack und viel Enthu­si­asmus brechen sie gemeinsam zu ihrer grossen Reise auf. \nBilder von Caspar David Fried­rich\nMusik aus der Früh­ro­mantik
URL:https://evamariafelder.ch/event/zko-zuercher-kammerorchester-die-abenteuer-der-maus-lou-2/2024-11-24/2/
LOCATION:ZKO Haus\, Seefeldstrasse 305\, 8008 Zürich\, 8008
END:VEVENT
BEGIN:VEVENT
DTSTART;TZID=UTC:20241124T110000
DTEND;TZID=UTC:20241124T120000
DTSTAMP:20260421T212228
CREATED:20240709T085822Z
LAST-MODIFIED:20240709T090240Z
UID:10000052-1732446000-1732449600@evamariafelder.ch
SUMMARY:ZKO\, Zürcher Kammerorchester: Die Abenteuer der Maus Lou 2
DESCRIPTION:Die Aben­teuer der Maus Lou:\nAuf Wander­schaft mit Caspar David Fried­rich \nKINDERKONZERT\nEin inter­ak­tives Konzert­format\, in welchem die Kinder auf viel­fäl­tige Weise das Geschehen selbst mitge­stalten können. Mithilfe der ausge­stellten Kunst­werke eines Künst­lers\, sowie der dazu passenden Musik\, reist die Maus Lou stets in eine andere Epoche der Kunst­ge­schichte. \n\n\n\nMaus Lou verbringt ihre Ferien beim Maler Caspar David Fried­rich in Dresden. Dieser möchte unbe­dingt ans Meer reisen\, um dort seine Familie zu besu­chen und wandern zu gehen. Mit prall gefülltem Ruck­sack und viel Enthu­si­asmus brechen sie gemeinsam zu ihrer grossen Reise auf. \nBilder von Caspar David Fried­rich\nMusik aus der Früh­ro­mantik
URL:https://evamariafelder.ch/event/zko-zuercher-kammerorchester-die-abenteuer-der-maus-lou-2/2024-11-24/1/
LOCATION:ZKO Haus\, Seefeldstrasse 305\, 8008 Zürich\, 8008
END:VEVENT
END:VCALENDAR